BEGIN:VCALENDAR
VERSION:2.0
PRODID:-//UNITED CHURCH OF CHRIST CONGREGATIONAL - ECPv6.15.20//NONSGML v1.0//EN
CALSCALE:GREGORIAN
METHOD:PUBLISH
X-ORIGINAL-URL:https://ucc-wallace.org
X-WR-CALDESC:Events for UNITED CHURCH OF CHRIST CONGREGATIONAL
REFRESH-INTERVAL;VALUE=DURATION:PT1H
X-Robots-Tag:noindex
X-PUBLISHED-TTL:PT1H
BEGIN:VTIMEZONE
TZID:America/Los_Angeles
BEGIN:DAYLIGHT
TZOFFSETFROM:-0800
TZOFFSETTO:-0700
TZNAME:PDT
DTSTART:20250309T100000
END:DAYLIGHT
BEGIN:STANDARD
TZOFFSETFROM:-0700
TZOFFSETTO:-0800
TZNAME:PST
DTSTART:20251102T090000
END:STANDARD
BEGIN:DAYLIGHT
TZOFFSETFROM:-0800
TZOFFSETTO:-0700
TZNAME:PDT
DTSTART:20260308T100000
END:DAYLIGHT
BEGIN:STANDARD
TZOFFSETFROM:-0700
TZOFFSETTO:-0800
TZNAME:PST
DTSTART:20261101T090000
END:STANDARD
BEGIN:DAYLIGHT
TZOFFSETFROM:-0800
TZOFFSETTO:-0700
TZNAME:PDT
DTSTART:20270314T100000
END:DAYLIGHT
BEGIN:STANDARD
TZOFFSETFROM:-0700
TZOFFSETTO:-0800
TZNAME:PST
DTSTART:20271107T090000
END:STANDARD
END:VTIMEZONE
BEGIN:VEVENT
DTSTART;TZID=America/Los_Angeles:20260412T093000
DTEND;TZID=America/Los_Angeles:20260412T103000
DTSTAMP:20260421T072621
CREATED:20260419T144103Z
LAST-MODIFIED:20260419T144104Z
UID:1216-1775986200-1775989800@ucc-wallace.org
SUMMARY:Worship with Alice M.C. Ling
DESCRIPTION:
URL:https://ucc-wallace.org/event/worship-with-alice-m-c-ling-6/
END:VEVENT
BEGIN:VEVENT
DTSTART;TZID=America/Los_Angeles:20260419T093000
DTEND;TZID=America/Los_Angeles:20260419T103000
DTSTAMP:20260421T072621
CREATED:20260419T143355Z
LAST-MODIFIED:20260419T143519Z
UID:1197-1776591000-1776594600@ucc-wallace.org
SUMMARY:Worship with Andy CastroLang
DESCRIPTION:
URL:https://ucc-wallace.org/event/worship-with-andy-castrolang/
END:VEVENT
BEGIN:VEVENT
DTSTART;TZID=America/Los_Angeles:20260426T093000
DTEND;TZID=America/Los_Angeles:20260426T103000
DTSTAMP:20260421T072621
CREATED:20260419T143429Z
LAST-MODIFIED:20260419T143430Z
UID:1199-1777195800-1777199400@ucc-wallace.org
SUMMARY:Worship with Alice M.C. Ling
DESCRIPTION:
URL:https://ucc-wallace.org/event/worship-with-alice-m-c-ling-2/
END:VEVENT
BEGIN:VEVENT
DTSTART;TZID=America/Los_Angeles:20260503T093000
DTEND;TZID=America/Los_Angeles:20260503T103000
DTSTAMP:20260421T072621
CREATED:20260419T143622Z
LAST-MODIFIED:20260419T143623Z
UID:1202-1777800600-1777804200@ucc-wallace.org
SUMMARY:Worship with Alice M.C. Ling
DESCRIPTION:
URL:https://ucc-wallace.org/event/worship-with-alice-m-c-ling/
END:VEVENT
BEGIN:VEVENT
DTSTART;TZID=America/Los_Angeles:20260503T103000
DTEND;TZID=America/Los_Angeles:20260503T113000
DTSTAMP:20260421T072621
CREATED:20260419T143646Z
LAST-MODIFIED:20260419T143648Z
UID:1204-1777804200-1777807800@ucc-wallace.org
SUMMARY:Executive Board Meeting
DESCRIPTION:
URL:https://ucc-wallace.org/event/executive-board-meeting/
END:VEVENT
BEGIN:VEVENT
DTSTART;TZID=America/Los_Angeles:20260510T093000
DTEND;TZID=America/Los_Angeles:20260510T103000
DTSTAMP:20260421T072621
CREATED:20260419T143712Z
LAST-MODIFIED:20260419T143713Z
UID:1206-1778405400-1778409000@ucc-wallace.org
SUMMARY:Worship with Alice M.C. Ling
DESCRIPTION:
URL:https://ucc-wallace.org/event/worship-with-alice-m-c-ling-3/
END:VEVENT
BEGIN:VEVENT
DTSTART;TZID=America/Los_Angeles:20260517T093000
DTEND;TZID=America/Los_Angeles:20260517T103000
DTSTAMP:20260421T072621
CREATED:20260419T143741Z
LAST-MODIFIED:20260419T143742Z
UID:1208-1779010200-1779013800@ucc-wallace.org
SUMMARY:Worship with Phil Hodson
DESCRIPTION:
URL:https://ucc-wallace.org/event/worship-with-phil-hodson/
END:VEVENT
BEGIN:VEVENT
DTSTART;TZID=America/Los_Angeles:20260524T093000
DTEND;TZID=America/Los_Angeles:20260524T103000
DTSTAMP:20260421T072621
CREATED:20260419T143823Z
LAST-MODIFIED:20260419T143824Z
UID:1210-1779615000-1779618600@ucc-wallace.org
SUMMARY:Worship with Andy CastroLang
DESCRIPTION:
URL:https://ucc-wallace.org/event/worship-with-andy-castrolang-2/
END:VEVENT
BEGIN:VEVENT
DTSTART;TZID=America/Los_Angeles:20260531T093000
DTEND;TZID=America/Los_Angeles:20260531T103000
DTSTAMP:20260421T072621
CREATED:20260419T143913Z
LAST-MODIFIED:20260419T143914Z
UID:1212-1780219800-1780223400@ucc-wallace.org
SUMMARY:Worship with Alice M.C. Ling
DESCRIPTION:
URL:https://ucc-wallace.org/event/worship-with-alice-m-c-ling-5/
END:VEVENT
END:VCALENDAR